BEGIN:VCALENDAR
VERSION:2.0
PRODID:-//StreamRadar//Match Calendar//EN
CALSCALE:GREGORIAN
METHOD:PUBLISH
X-WR-CALNAME:Nõmme United II vs Viimsi
X-WR-TIMEZONE:America/New_York
BEGIN:VEVENT
UID:match-5567425@streamradar.soccer
SUMMARY:Nõmme United II vs Viimsi
DTSTAMP:20260421T165354Z
DTSTART;TZID=America/New_York:20260913T053000
DTEND;TZID=America/New_York:20260913T073000
DESCRIPTION:Dónde ver Nõmme United II vs Viimsi en Estonia - Esiliiga A. 
 Transmisión en vivo y programación de TV.\nhttps://streamradar.soccer/es/
 match/5567425/nomme-united-ii-vs-viimsi/
URL;VALUE=URI:https://streamradar.soccer/es/match/5567425/nomme-united-ii-v
 s-viimsi/
STATUS:CONFIRMED
END:VEVENT
END:VCALENDAR
