BEGIN:VCALENDAR
VERSION:2.0
PRODID:-//StreamRadar//Match Calendar//EN
CALSCALE:GREGORIAN
METHOD:PUBLISH
X-WR-CALNAME:FC Tallinn vs Maardu
X-WR-TIMEZONE:America/New_York
BEGIN:VEVENT
UID:match-5567417@streamradar.soccer
SUMMARY:FC Tallinn vs Maardu
DTSTAMP:20260423T155607Z
DTSTART;TZID=America/New_York:20260910T103000
DTEND;TZID=America/New_York:20260910T123000
DESCRIPTION:Dónde ver FC Tallinn vs Maardu en Estonia - Esiliiga A. Transm
 isión en vivo y programación de TV.\nhttps://streamradar.soccer/es/match/
 5567417/fc-tallinn-vs-maardu/
URL;VALUE=URI:https://streamradar.soccer/es/match/5567417/fc-tallinn-vs-maa
 rdu/
STATUS:CONFIRMED
END:VEVENT
END:VCALENDAR
