BEGIN:VCALENDAR
VERSION:2.0
PRODID:-//StreamRadar//Match Calendar//EN
CALSCALE:GREGORIAN
METHOD:PUBLISH
X-WR-CALNAME:Jonsered vs Torslanda
X-WR-TIMEZONE:America/New_York
BEGIN:VEVENT
UID:match-5567076@streamradar.soccer
SUMMARY:Jonsered vs Torslanda
DTSTAMP:20260422T181623Z
DTSTART;TZID=America/New_York:20260912T070000
DTEND;TZID=America/New_York:20260912T090000
DESCRIPTION:Dónde ver Jonsered vs Torslanda en Suecia - Superettan. Transm
 isión en vivo y programación de TV.\nhttps://streamradar.soccer/es/match/
 5567076/jonsered-vs-torslanda/
URL;VALUE=URI:https://streamradar.soccer/es/match/5567076/jonsered-vs-torsl
 anda/
STATUS:CONFIRMED
END:VEVENT
END:VCALENDAR
