BEGIN:VCALENDAR
VERSION:2.0
PRODID:-//StreamRadar//Match Calendar//EN
CALSCALE:GREGORIAN
METHOD:PUBLISH
X-WR-CALNAME:Syrianska FC vs Eker Örebro
X-WR-TIMEZONE:America/New_York
BEGIN:VEVENT
UID:match-5566852@streamradar.soccer
SUMMARY:Syrianska FC vs Eker Örebro
DTSTAMP:20260422T181619Z
DTSTART;TZID=America/New_York:20260801T110000
DTEND;TZID=America/New_York:20260801T130000
LOCATION:Sodertalje Fotbollsarena
DESCRIPTION:Dónde ver Syrianska FC vs Eker Örebro en Suecia - Superettan.
  Transmisión en vivo y programación de TV.\nhttps://streamradar.soccer/es
 /match/5566852/syrianska-fc-vs-eker-orebro/
URL;VALUE=URI:https://streamradar.soccer/es/match/5566852/syrianska-fc-vs-e
 ker-orebro/
STATUS:CONFIRMED
END:VEVENT
END:VCALENDAR
