BEGIN:VCALENDAR
VERSION:2.0
PRODID:-//StreamRadar//Match Calendar//EN
CALSCALE:GREGORIAN
METHOD:PUBLISH
X-WR-CALNAME:Torns vs Karlskrona
X-WR-TIMEZONE:America/New_York
BEGIN:VEVENT
UID:match-5566572@streamradar.soccer
SUMMARY:Torns vs Karlskrona
DTSTAMP:20260422T083754Z
DTSTART;TZID=America/New_York:20260328T090000
DTEND;TZID=America/New_York:20260328T110000
LOCATION:Tornvallen (Lund)
DESCRIPTION:Dónde ver Torns vs Karlskrona en Suecia - Superettan. Transmis
 ión en vivo y programación de TV.\nhttps://streamradar.soccer/es/match/55
 66572/torns-vs-karlskrona/
URL;VALUE=URI:https://streamradar.soccer/es/match/5566572/torns-vs-karlskro
 na/
STATUS:CONFIRMED
END:VEVENT
END:VCALENDAR
