BEGIN:VCALENDAR
VERSION:2.0
PRODID:-//StreamRadar//Match Calendar//EN
CALSCALE:GREGORIAN
METHOD:PUBLISH
X-WR-CALNAME:Gute vs Enskede
X-WR-TIMEZONE:America/New_York
BEGIN:VEVENT
UID:match-5566534@streamradar.soccer
SUMMARY:Gute vs Enskede
DTSTAMP:20260422T053249Z
DTSTART;TZID=America/New_York:20260919T063000
DTEND;TZID=America/New_York:20260919T083000
DESCRIPTION:Dónde ver Gute vs Enskede en Suecia - Superettan. Transmisión
  en vivo y programación de TV.\nhttps://streamradar.soccer/es/match/556653
 4/gute-vs-enskede/
URL;VALUE=URI:https://streamradar.soccer/es/match/5566534/gute-vs-enskede/
STATUS:CONFIRMED
END:VEVENT
END:VCALENDAR
