BEGIN:VCALENDAR
VERSION:2.0
PRODID:-//StreamRadar//Match Calendar//EN
CALSCALE:GREGORIAN
METHOD:PUBLISH
X-WR-CALNAME:Enskede vs Kungsängen
X-WR-TIMEZONE:America/New_York
BEGIN:VEVENT
UID:match-5566527@streamradar.soccer
SUMMARY:Enskede vs Kungsängen
DTSTAMP:20260422T181627Z
DTSTART;TZID=America/New_York:20260912T060000
DTEND;TZID=America/New_York:20260912T080000
DESCRIPTION:Dónde ver Enskede vs Kungsängen en Suecia - Superettan. Trans
 misión en vivo y programación de TV.\nhttps://streamradar.soccer/es/match
 /5566527/enskede-vs-kungsangen/
URL;VALUE=URI:https://streamradar.soccer/es/match/5566527/enskede-vs-kungsa
 ngen/
STATUS:CONFIRMED
END:VEVENT
END:VCALENDAR
