BEGIN:VCALENDAR
VERSION:2.0
PRODID:-//StreamRadar//Match Calendar//EN
CALSCALE:GREGORIAN
METHOD:PUBLISH
X-WR-CALNAME:Vancouver Whitecaps II vs San Jose Earthquakes II
X-WR-TIMEZONE:America/New_York
BEGIN:VEVENT
UID:match-5565988@streamradar.soccer
SUMMARY:Vancouver Whitecaps II vs San Jose Earthquakes II
DTSTAMP:20260424T031719Z
DTSTART;TZID=America/New_York:20260920T170000
DTEND;TZID=America/New_York:20260920T190000
LOCATION:Swangard Stadium
DESCRIPTION:Dónde ver Vancouver Whitecaps II vs San Jose Earthquakes II en
  MLS Next Pro. Transmisión en vivo y programación de TV.\nhttps://streamr
 adar.soccer/es/match/5565988/vancouver-whitecaps-ii-vs-san-jose-earthquakes
 -ii/
URL;VALUE=URI:https://streamradar.soccer/es/match/5565988/vancouver-whiteca
 ps-ii-vs-san-jose-earthquakes-ii/
STATUS:CONFIRMED
END:VEVENT
END:VCALENDAR
