BEGIN:VCALENDAR
VERSION:2.0
PRODID:-//StreamRadar//Match Calendar//EN
CALSCALE:GREGORIAN
METHOD:PUBLISH
X-WR-CALNAME:Siheung Citizen vs Changwon City
X-WR-TIMEZONE:America/New_York
BEGIN:VEVENT
UID:match-5565501@streamradar.soccer
SUMMARY:Siheung Citizen vs Changwon City
DTSTAMP:20260422T012248Z
DTSTART;TZID=America/New_York:20260913T040000
DTEND;TZID=America/New_York:20260913T060000
DESCRIPTION:Dónde ver Siheung Citizen vs Changwon City en Corea del Sur - 
 K3 League. Transmisión en vivo y programación de TV.\nhttps://streamradar
 .soccer/es/match/5565501/siheung-citizen-vs-changwon-city/
URL;VALUE=URI:https://streamradar.soccer/es/match/5565501/siheung-citizen-v
 s-changwon-city/
STATUS:CONFIRMED
END:VEVENT
END:VCALENDAR
