BEGIN:VCALENDAR
VERSION:2.0
PRODID:-//StreamRadar//Match Calendar//EN
CALSCALE:GREGORIAN
METHOD:PUBLISH
X-WR-CALNAME:Gangneung City vs Busan Transportation
X-WR-TIMEZONE:America/New_York
BEGIN:VEVENT
UID:match-5565495@streamradar.soccer
SUMMARY:Gangneung City vs Busan Transportation
DTSTAMP:20260422T012345Z
DTSTART;TZID=America/New_York:20260906T060000
DTEND;TZID=America/New_York:20260906T080000
DESCRIPTION:Dónde ver Gangneung City vs Busan Transportation en Corea del 
 Sur - K3 League. Transmisión en vivo y programación de TV.\nhttps://strea
 mradar.soccer/es/match/5565495/gangneung-city-vs-busan-transportation/
URL;VALUE=URI:https://streamradar.soccer/es/match/5565495/gangneung-city-vs
 -busan-transportation/
STATUS:CONFIRMED
END:VEVENT
END:VCALENDAR
