BEGIN:VCALENDAR
VERSION:2.0
PRODID:-//StreamRadar//Match Calendar//EN
CALSCALE:GREGORIAN
METHOD:PUBLISH
X-WR-CALNAME:Changwon City vs Daejeon Korail
X-WR-TIMEZONE:America/New_York
BEGIN:VEVENT
UID:match-5565491@streamradar.soccer
SUMMARY:Changwon City vs Daejeon Korail
DTSTAMP:20260422T012245Z
DTSTART;TZID=America/New_York:20260905T040000
DTEND;TZID=America/New_York:20260905T060000
DESCRIPTION:Dónde ver Changwon City vs Daejeon Korail en Corea del Sur - K
 3 League. Transmisión en vivo y programación de TV.\nhttps://streamradar.
 soccer/es/match/5565491/changwon-city-vs-daejeon-korail/
URL;VALUE=URI:https://streamradar.soccer/es/match/5565491/changwon-city-vs-
 daejeon-korail/
STATUS:CONFIRMED
END:VEVENT
END:VCALENDAR
