BEGIN:VCALENDAR
VERSION:2.0
PRODID:-//StreamRadar//Match Calendar//EN
CALSCALE:GREGORIAN
METHOD:PUBLISH
X-WR-CALNAME:Ellas Syros vs Kallithea
X-WR-TIMEZONE:America/New_York
BEGIN:VEVENT
UID:match-5565355@streamradar.soccer
SUMMARY:Ellas Syros vs Kallithea
DTSTAMP:20260423T094151Z
DTSTART;TZID=America/New_York:20260419T080000
DTEND;TZID=America/New_York:20260419T100000
LOCATION:Dimotikó Gípedo Podosfaírou Áno Sýrou (Ermoupoli)
DESCRIPTION:Dónde ver Ellas Syros vs Kallithea en Grecia - Super League 2.
  Transmisión en vivo y programación de TV.\nhttps://streamradar.soccer/es
 /match/5565355/ellas-syros-vs-kallithea/
URL;VALUE=URI:https://streamradar.soccer/es/match/5565355/ellas-syros-vs-ka
 llithea/
STATUS:CONFIRMED
END:VEVENT
END:VCALENDAR
