BEGIN:VCALENDAR
VERSION:2.0
PRODID:-//StreamRadar//Match Calendar//EN
CALSCALE:GREGORIAN
METHOD:PUBLISH
X-WR-CALNAME:Seongnam FC vs Hwaseong
X-WR-TIMEZONE:America/New_York
BEGIN:VEVENT
UID:match-5563245@streamradar.soccer
SUMMARY:Seongnam FC vs Hwaseong
DTSTAMP:20260425T192317Z
DTSTART;TZID=America/New_York:20260920T060000
DTEND;TZID=America/New_York:20260920T080000
LOCATION:Tancheon Stadium
DESCRIPTION:Dónde ver Seongnam FC vs Hwaseong en Corea del Sur - K League 
 2. Transmisión en vivo y programación de TV.\nhttps://streamradar.soccer/
 es/match/5563245/seongnam-fc-vs-hwaseong/
URL;VALUE=URI:https://streamradar.soccer/es/match/5563245/seongnam-fc-vs-hw
 aseong/
STATUS:CONFIRMED
END:VEVENT
END:VCALENDAR
