BEGIN:VCALENDAR
VERSION:2.0
PRODID:-//StreamRadar//Match Calendar//EN
CALSCALE:GREGORIAN
METHOD:PUBLISH
X-WR-CALNAME:Gyeongnam vs Seongnam FC
X-WR-TIMEZONE:America/New_York
BEGIN:VEVENT
UID:match-5563234@streamradar.soccer
SUMMARY:Gyeongnam vs Seongnam FC
DTSTAMP:20260422T054734Z
DTSTART;TZID=America/New_York:20260913T033000
DTEND;TZID=America/New_York:20260913T053000
LOCATION:Changwon Football Centre Stadium
DESCRIPTION:Dónde ver Gyeongnam vs Seongnam FC en Corea del Sur - K League
  2. Transmisión en vivo y programación de TV.\nhttps://streamradar.soccer
 /es/match/5563234/gyeongnam-vs-seongnam-fc/
URL;VALUE=URI:https://streamradar.soccer/es/match/5563234/gyeongnam-vs-seon
 gnam-fc/
STATUS:CONFIRMED
END:VEVENT
END:VCALENDAR
