BEGIN:VCALENDAR
VERSION:2.0
PRODID:-//StreamRadar//Match Calendar//EN
CALSCALE:GREGORIAN
METHOD:PUBLISH
X-WR-CALNAME:Cheonan City vs Hwaseong
X-WR-TIMEZONE:America/New_York
BEGIN:VEVENT
UID:match-5563225@streamradar.soccer
SUMMARY:Cheonan City vs Hwaseong
DTSTAMP:20260422T053304Z
DTSTART;TZID=America/New_York:20260905T060000
DTEND;TZID=America/New_York:20260905T080000
LOCATION:Cheonan Stadium
DESCRIPTION:Dónde ver Cheonan City vs Hwaseong en Corea del Sur - K League
  2. Transmisión en vivo y programación de TV.\nhttps://streamradar.soccer
 /es/match/5563225/cheonan-city-vs-hwaseong/
URL;VALUE=URI:https://streamradar.soccer/es/match/5563225/cheonan-city-vs-h
 waseong/
STATUS:CONFIRMED
END:VEVENT
END:VCALENDAR
