BEGIN:VCALENDAR
VERSION:2.0
PRODID:-//StreamRadar//Match Calendar//EN
CALSCALE:GREGORIAN
METHOD:PUBLISH
X-WR-CALNAME:Tukums vs GrobiÅ†a
X-WR-TIMEZONE:America/New_York
BEGIN:VEVENT
UID:match-5561943@streamradar.soccer
SUMMARY:Tukums vs GrobiÅ†a
DTSTAMP:20260423T143245Z
DTSTART;TZID=America/New_York:20260920T090000
DTEND;TZID=America/New_York:20260920T110000
DESCRIPTION:DÃ³nde ver Tukums vs GrobiÅ†a en Letonia - Virsliga. TransmisiÃ
 ³n en vivo y programaciÃ³n de TV.\nhttps://streamradar.soccer/es/match/5561
 943/tukums-vs-grobi-a/
URL;VALUE=URI:https://streamradar.soccer/es/match/5561943/tukums-vs-grobi-a
 /
STATUS:CONFIRMED
END:VEVENT
END:VCALENDAR
