BEGIN:VCALENDAR
VERSION:2.0
PRODID:-//StreamRadar//Match Calendar//EN
CALSCALE:GREGORIAN
METHOD:PUBLISH
X-WR-CALNAME:Ogre United vs Super Nova
X-WR-TIMEZONE:America/New_York
BEGIN:VEVENT
UID:match-5561942@streamradar.soccer
SUMMARY:Ogre United vs Super Nova
DTSTAMP:20260423T143239Z
DTSTART;TZID=America/New_York:20260920T070000
DTEND;TZID=America/New_York:20260920T090000
DESCRIPTION:Dónde ver Ogre United vs Super Nova en Letonia - Virsliga. Tra
 nsmisión en vivo y programación de TV.\nhttps://streamradar.soccer/es/mat
 ch/5561942/ogre-united-vs-super-nova/
URL;VALUE=URI:https://streamradar.soccer/es/match/5561942/ogre-united-vs-su
 per-nova/
STATUS:CONFIRMED
END:VEVENT
END:VCALENDAR
