BEGIN:VCALENDAR
VERSION:2.0
PRODID:-//StreamRadar//Match Calendar//EN
CALSCALE:GREGORIAN
METHOD:PUBLISH
X-WR-CALNAME:Laagri vs Kuressaare
X-WR-TIMEZONE:America/New_York
BEGIN:VEVENT
UID:match-5561675@streamradar.soccer
SUMMARY:Laagri vs Kuressaare
DTSTAMP:20260421T165147Z
DTSTART;TZID=America/New_York:20260918T120000
DTEND;TZID=America/New_York:20260918T140000
LOCATION:Laagri kunstmurustaadion
DESCRIPTION:Dónde ver Laagri vs Kuressaare en Estonia - Meistriliiga. Tran
 smisión en vivo y programación de TV.\nhttps://streamradar.soccer/es/matc
 h/5561675/laagri-vs-kuressaare/
URL;VALUE=URI:https://streamradar.soccer/es/match/5561675/laagri-vs-kuressa
 are/
STATUS:CONFIRMED
END:VEVENT
END:VCALENDAR
