BEGIN:VCALENDAR
VERSION:2.0
PRODID:-//StreamRadar//Match Calendar//EN
CALSCALE:GREGORIAN
METHOD:PUBLISH
X-WR-CALNAME:Vaprus vs Laagri
X-WR-TIMEZONE:America/New_York
BEGIN:VEVENT
UID:match-5561668@streamradar.soccer
SUMMARY:Vaprus vs Laagri
DTSTAMP:20260421T211053Z
DTSTART;TZID=America/New_York:20260909T120000
DTEND;TZID=America/New_York:20260909T140000
LOCATION:Parnu Rannastaadion
DESCRIPTION:Dónde ver Vaprus vs Laagri en Estonia - Meistriliiga. Transmis
 ión en vivo y programación de TV.\nhttps://streamradar.soccer/es/match/55
 61668/vaprus-vs-laagri/
URL;VALUE=URI:https://streamradar.soccer/es/match/5561668/vaprus-vs-laagri/
STATUS:CONFIRMED
END:VEVENT
END:VCALENDAR
