BEGIN:VCALENDAR
VERSION:2.0
PRODID:-//StreamRadar//Match Calendar//EN
CALSCALE:GREGORIAN
METHOD:PUBLISH
X-WR-CALNAME:Paide vs Levadia
X-WR-TIMEZONE:America/New_York
BEGIN:VEVENT
UID:match-5561663@streamradar.soccer
SUMMARY:Paide vs Levadia
DTSTAMP:20260422T094238Z
DTSTART;TZID=America/New_York:20260906T073000
DTEND;TZID=America/New_York:20260906T093000
LOCATION:Paide linnastaadion
DESCRIPTION:Dónde ver Paide vs Levadia en Estonia - Meistriliiga. Transmis
 ión en vivo y programación de TV.\nhttps://streamradar.soccer/es/match/55
 61663/paide-vs-levadia/
URL;VALUE=URI:https://streamradar.soccer/es/match/5561663/paide-vs-levadia/
STATUS:CONFIRMED
END:VEVENT
END:VCALENDAR
