BEGIN:VCALENDAR
VERSION:2.0
PRODID:-//StreamRadar//Match Calendar//EN
CALSCALE:GREGORIAN
METHOD:PUBLISH
X-WR-CALNAME:Talleres Remedios vs Liniers
X-WR-TIMEZONE:America/New_York
BEGIN:VEVENT
UID:match-5560755@streamradar.soccer
SUMMARY:Talleres Remedios vs Liniers
DTSTAMP:20260421T093212Z
DTSTART;TZID=America/New_York:20260912T160000
DTEND;TZID=America/New_York:20260912T180000
LOCATION:Estadio de Talleres de Remedios de Escalada
DESCRIPTION:Dónde ver Talleres Remedios vs Liniers en Argentina - Primera 
 B Metropolitana. Transmisión en vivo y programación de TV.\nhttps://strea
 mradar.soccer/es/match/5560755/talleres-remedios-vs-liniers/
URL;VALUE=URI:https://streamradar.soccer/es/match/5560755/talleres-remedios
 -vs-liniers/
STATUS:CONFIRMED
END:VEVENT
END:VCALENDAR
