BEGIN:VCALENDAR
VERSION:2.0
PRODID:-//StreamRadar//Match Calendar//EN
CALSCALE:GREGORIAN
METHOD:PUBLISH
X-WR-CALNAME:Brown de Adrogué vs San Martín Burzaco
X-WR-TIMEZONE:America/New_York
BEGIN:VEVENT
UID:match-5560748@streamradar.soccer
SUMMARY:Brown de Adrogué vs San Martín Burzaco
DTSTAMP:20260421T110348Z
DTSTART;TZID=America/New_York:20260912T160000
DTEND;TZID=America/New_York:20260912T180000
LOCATION:Estadio Lorenzo Arandilla
DESCRIPTION:Dónde ver Brown De Adrogué vs San Martín Burzaco en Argentin
 a - Primera B Metropolitana. Transmisión en vivo y programación de TV.\nh
 ttps://streamradar.soccer/es/match/5560748/brown-de-adrogue-vs-san-martin-b
 urzaco/
URL;VALUE=URI:https://streamradar.soccer/es/match/5560748/brown-de-adrogue-
 vs-san-martin-burzaco/
STATUS:CONFIRMED
END:VEVENT
END:VCALENDAR
