BEGIN:VCALENDAR
VERSION:2.0
PRODID:-//StreamRadar//Match Calendar//EN
CALSCALE:GREGORIAN
METHOD:PUBLISH
X-WR-CALNAME:Argentino Merlo vs Real Pilar
X-WR-TIMEZONE:America/New_York
BEGIN:VEVENT
UID:match-5560745@streamradar.soccer
SUMMARY:Argentino Merlo vs Real Pilar
DTSTAMP:20260421T104428Z
DTSTART;TZID=America/New_York:20260912T160000
DTEND;TZID=America/New_York:20260912T180000
LOCATION:Estadio Juan Carlos Brieva
DESCRIPTION:Dónde ver Argentino Merlo vs Real Pilar en Argentina - Primera
  B Metropolitana. Transmisión en vivo y programación de TV.\nhttps://stre
 amradar.soccer/es/match/5560745/argentino-merlo-vs-real-pilar/
URL;VALUE=URI:https://streamradar.soccer/es/match/5560745/argentino-merlo-v
 s-real-pilar/
STATUS:CONFIRMED
END:VEVENT
END:VCALENDAR
