BEGIN:VCALENDAR
VERSION:2.0
PRODID:-//StreamRadar//Match Calendar//EN
CALSCALE:GREGORIAN
METHOD:PUBLISH
X-WR-CALNAME:Wuhan Three Towns vs Qingdao West Coast
X-WR-TIMEZONE:America/New_York
BEGIN:VEVENT
UID:match-5560393@streamradar.soccer
SUMMARY:Wuhan Three Towns vs Qingdao West Coast
DTSTAMP:20260423T155717Z
DTSTART;TZID=America/New_York:20260905T070000
DTEND;TZID=America/New_York:20260905T090000
LOCATION:Wuhan Sports Centre
DESCRIPTION:Dónde ver Wuhan Three Towns vs Qingdao West Coast en China - S
 uper League China. Transmisión en vivo y programación de TV.\nhttps://str
 eamradar.soccer/es/match/5560393/wuhan-three-towns-vs-qingdao-west-coast/
URL;VALUE=URI:https://streamradar.soccer/es/match/5560393/wuhan-three-towns
 -vs-qingdao-west-coast/
STATUS:CONFIRMED
END:VEVENT
END:VCALENDAR
