BEGIN:VCALENDAR
VERSION:2.0
PRODID:-//StreamRadar//Match Calendar//EN
CALSCALE:GREGORIAN
METHOD:PUBLISH
X-WR-CALNAME:Yunnan Yukun vs Shanghai Port
X-WR-TIMEZONE:America/New_York
BEGIN:VEVENT
UID:match-5560339@streamradar.soccer
SUMMARY:Yunnan Yukun vs Shanghai Port
DTSTAMP:20260421T172605Z
DTSTART;TZID=America/New_York:20260717T080000
DTEND;TZID=America/New_York:20260717T100000
LOCATION:Yuxi Plateau Sports Center Stadium
DESCRIPTION:Dónde ver Yunnan Yukun vs Shanghai Port en China - Super Leagu
 e China. Transmisión en vivo y programación de TV.\nhttps://streamradar.s
 occer/es/match/5560339/yunnan-yukun-vs-shanghai-port/
URL;VALUE=URI:https://streamradar.soccer/es/match/5560339/yunnan-yukun-vs-s
 hanghai-port/
STATUS:CONFIRMED
END:VEVENT
END:VCALENDAR
