BEGIN:VCALENDAR
VERSION:2.0
PRODID:-//StreamRadar//Match Calendar//EN
CALSCALE:GREGORIAN
METHOD:PUBLISH
X-WR-CALNAME:Beijing Guoan vs Wuhan Three Towns
X-WR-TIMEZONE:America/New_York
BEGIN:VEVENT
UID:match-5560317@streamradar.soccer
SUMMARY:Beijing Guoan vs Wuhan Three Towns
DTSTAMP:20260421T183121Z
DTSTART;TZID=America/New_York:20260627T080000
DTEND;TZID=America/New_York:20260627T100000
DESCRIPTION:Dónde ver Beijing Guoan vs Wuhan Three Towns en China - Super 
 League China. Transmisión en vivo y programación de TV.\nhttps://streamra
 dar.soccer/es/match/5560317/beijing-guoan-vs-wuhan-three-towns/
URL;VALUE=URI:https://streamradar.soccer/es/match/5560317/beijing-guoan-vs-
 wuhan-three-towns/
STATUS:CONFIRMED
END:VEVENT
END:VCALENDAR
