BEGIN:VCALENDAR
VERSION:2.0
PRODID:-//StreamRadar//Match Calendar//EN
CALSCALE:GREGORIAN
METHOD:PUBLISH
X-WR-CALNAME:Almagro vs Nueva Chicago
X-WR-TIMEZONE:America/New_York
BEGIN:VEVENT
UID:match-5560109@streamradar.soccer
SUMMARY:Almagro vs Nueva Chicago
DTSTAMP:20260422T053925Z
DTSTART;TZID=America/New_York:20260919T160000
DTEND;TZID=America/New_York:20260919T180000
LOCATION:Estadio Tres de Febrero
DESCRIPTION:Dónde ver Almagro vs Nueva Chicago en Argentina - Primera Naci
 onal. Transmisión en vivo y programación de TV.\nhttps://streamradar.socc
 er/es/match/5560109/almagro-vs-nueva-chicago/
URL;VALUE=URI:https://streamradar.soccer/es/match/5560109/almagro-vs-nueva-
 chicago/
STATUS:CONFIRMED
END:VEVENT
END:VCALENDAR
