BEGIN:VCALENDAR
VERSION:2.0
PRODID:-//StreamRadar//Match Calendar//EN
CALSCALE:GREGORIAN
METHOD:PUBLISH
X-WR-CALNAME:Midland vs San Martín Tucumán
X-WR-TIMEZONE:America/New_York
BEGIN:VEVENT
UID:match-5559851@streamradar.soccer
SUMMARY:Midland vs San Martín Tucumán
DTSTAMP:20260422T000438Z
DTSTART;TZID=America/New_York:20260530T160000
DTEND;TZID=America/New_York:20260530T180000
LOCATION:Raul Roberto Sabureau Stadium
DESCRIPTION:Dónde ver Midland vs San Martín Tucumán en Argentina - Prime
 ra Nacional. Transmisión en vivo y programación de TV.\nhttps://streamrad
 ar.soccer/es/match/5559851/midland-vs-san-martin-tucuman/
URL;VALUE=URI:https://streamradar.soccer/es/match/5559851/midland-vs-san-ma
 rtin-tucuman/
STATUS:CONFIRMED
END:VEVENT
END:VCALENDAR
