BEGIN:VCALENDAR
VERSION:2.0
PRODID:-//StreamRadar//Match Calendar//EN
CALSCALE:GREGORIAN
METHOD:PUBLISH
X-WR-CALNAME:Sport Recife vs Juventude
X-WR-TIMEZONE:America/New_York
BEGIN:VEVENT
UID:match-5559570@streamradar.soccer
SUMMARY:Sport Recife vs Juventude
DTSTAMP:20260422T060024Z
DTSTART;TZID=America/New_York:20260919T150000
DTEND;TZID=America/New_York:20260919T170000
LOCATION:Estadio Adelmar da Costa Carvalho
DESCRIPTION:Dónde ver Sport Recife vs Juventude en Brasil - Serie B. Trans
 misión en vivo y programación de TV.\nhttps://streamradar.soccer/es/match
 /5559570/sport-recife-vs-juventude/
URL;VALUE=URI:https://streamradar.soccer/es/match/5559570/sport-recife-vs-j
 uventude/
STATUS:CONFIRMED
END:VEVENT
END:VCALENDAR
