BEGIN:VCALENDAR
VERSION:2.0
PRODID:-//StreamRadar//Match Calendar//EN
CALSCALE:GREGORIAN
METHOD:PUBLISH
X-WR-CALNAME:Náutico vs Botafogo SP
X-WR-TIMEZONE:America/New_York
BEGIN:VEVENT
UID:match-5559539@streamradar.soccer
SUMMARY:Náutico vs Botafogo SP
DTSTAMP:20260421T133450Z
DTSTART;TZID=America/New_York:20260905T150000
DTEND;TZID=America/New_York:20260905T170000
DESCRIPTION:Dónde ver Náutico vs Botafogo SP en Brasil - Serie B. Transmi
 sión en vivo y programación de TV.\nhttps://streamradar.soccer/es/match/5
 559539/nautico-vs-botafogo-sp/
URL;VALUE=URI:https://streamradar.soccer/es/match/5559539/nautico-vs-botafo
 go-sp/
STATUS:CONFIRMED
END:VEVENT
END:VCALENDAR
