BEGIN:VCALENDAR
VERSION:2.0
PRODID:-//StreamRadar//Match Calendar//EN
CALSCALE:GREGORIAN
METHOD:PUBLISH
X-WR-CALNAME:CriciÃºma vs CuiabÃ¡
X-WR-TIMEZONE:America/New_York
BEGIN:VEVENT
UID:match-5559535@streamradar.soccer
SUMMARY:CriciÃºma vs CuiabÃ¡
DTSTAMP:20260422T033652Z
DTSTART;TZID=America/New_York:20260905T150000
DTEND;TZID=America/New_York:20260905T170000
DESCRIPTION:DÃ³nde ver CriciÃºma vs CuiabÃ¡ en Brasil - Serie B. TransmisiÃ
 ³n en vivo y programaciÃ³n de TV.\nhttps://streamradar.soccer/es/match/5559
 535/criciuma-vs-cuiaba/
URL;VALUE=URI:https://streamradar.soccer/es/match/5559535/criciuma-vs-cuiab
 a/
STATUS:CONFIRMED
END:VEVENT
END:VCALENDAR
