BEGIN:VCALENDAR
VERSION:2.0
PRODID:-//StreamRadar//Match Calendar//EN
CALSCALE:GREGORIAN
METHOD:PUBLISH
X-WR-CALNAME:Sport Recife vs Athletic Club
X-WR-TIMEZONE:America/New_York
BEGIN:VEVENT
UID:match-5559400@streamradar.soccer
SUMMARY:Sport Recife vs Athletic Club
DTSTAMP:20260422T043248Z
DTSTART;TZID=America/New_York:20260609T150000
DTEND;TZID=America/New_York:20260609T170000
LOCATION:Estadio Adelmar da Costa Carvalho
DESCRIPTION:Dónde ver Sport Recife vs Athletic Club en Brasil - Serie B. T
 ransmisión en vivo y programación de TV.\nhttps://streamradar.soccer/es/m
 atch/5559400/sport-recife-vs-athletic-club/
URL;VALUE=URI:https://streamradar.soccer/es/match/5559400/sport-recife-vs-a
 thletic-club/
STATUS:CONFIRMED
END:VEVENT
END:VCALENDAR
