BEGIN:VCALENDAR
VERSION:2.0
PRODID:-//StreamRadar//Match Calendar//EN
CALSCALE:GREGORIAN
METHOD:PUBLISH
X-WR-CALNAME:Barcelona vs Delfin
X-WR-TIMEZONE:America/New_York
BEGIN:VEVENT
UID:match-5559181@streamradar.soccer
SUMMARY:Barcelona vs Delfin
DTSTAMP:20260421T155057Z
DTSTART;TZID=America/New_York:20260913T160000
DTEND;TZID=America/New_York:20260913T180000
LOCATION:Estadio Monumental Banco Pichincha
DESCRIPTION:Dónde ver Barcelona vs Delfin en Ecuador - Serie A de Ecuador.
  Transmisión en vivo y programación de TV.\nhttps://streamradar.soccer/es
 /match/5559181/barcelona-vs-delfin/
URL;VALUE=URI:https://streamradar.soccer/es/match/5559181/barcelona-vs-delf
 in/
STATUS:CONFIRMED
END:VEVENT
END:VCALENDAR
