BEGIN:VCALENDAR
VERSION:2.0
PRODID:-//StreamRadar//Match Calendar//EN
CALSCALE:GREGORIAN
METHOD:PUBLISH
X-WR-CALNAME:Mushuc Runa vs Leones del Norte
X-WR-TIMEZONE:America/New_York
BEGIN:VEVENT
UID:match-5559178@streamradar.soccer
SUMMARY:Mushuc Runa vs Leones del Norte
DTSTAMP:20260421T143254Z
DTSTART;TZID=America/New_York:20260906T160000
DTEND;TZID=America/New_York:20260906T180000
LOCATION:Estadio Bellavista
DESCRIPTION:Dónde ver Mushuc Runa vs Leones Del Norte en Ecuador - Serie A
  de Ecuador. Transmisión en vivo y programación de TV.\nhttps://streamrad
 ar.soccer/es/match/5559178/mushuc-runa-vs-leones-del-norte/
URL;VALUE=URI:https://streamradar.soccer/es/match/5559178/mushuc-runa-vs-le
 ones-del-norte/
STATUS:CONFIRMED
END:VEVENT
END:VCALENDAR
