BEGIN:VCALENDAR
VERSION:2.0
PRODID:-//StreamRadar//Match Calendar//EN
CALSCALE:GREGORIAN
METHOD:PUBLISH
X-WR-CALNAME:LDU Quito vs Mushuc Runa
X-WR-TIMEZONE:America/New_York
BEGIN:VEVENT
UID:match-5559168@streamradar.soccer
SUMMARY:LDU Quito vs Mushuc Runa
DTSTAMP:20260421T143109Z
DTSTART;TZID=America/New_York:20260902T160000
DTEND;TZID=America/New_York:20260902T180000
LOCATION:Estadio Rodrigo Paz Delgado
DESCRIPTION:Dónde ver LDU Quito vs Mushuc Runa en Ecuador - Serie A de Ecu
 ador. Transmisión en vivo y programación de TV.\nhttps://streamradar.socc
 er/es/match/5559168/ldu-quito-vs-mushuc-runa/
URL;VALUE=URI:https://streamradar.soccer/es/match/5559168/ldu-quito-vs-mush
 uc-runa/
STATUS:CONFIRMED
END:VEVENT
END:VCALENDAR
