BEGIN:VCALENDAR
VERSION:2.0
PRODID:-//StreamRadar//Match Calendar//EN
CALSCALE:GREGORIAN
METHOD:PUBLISH
X-WR-CALNAME:Deportivo Cuenca vs Guayaquil City
X-WR-TIMEZONE:America/New_York
BEGIN:VEVENT
UID:match-5559167@streamradar.soccer
SUMMARY:Deportivo Cuenca vs Guayaquil City
DTSTAMP:20260422T033733Z
DTSTART;TZID=America/New_York:20260902T160000
DTEND;TZID=America/New_York:20260902T180000
LOCATION:Estadio Alejandro Serrano Aguilar
DESCRIPTION:Dónde ver Deportivo Cuenca vs Guayaquil City en Ecuador - Seri
 e A de Ecuador. Transmisión en vivo y programación de TV.\nhttps://stream
 radar.soccer/es/match/5559167/deportivo-cuenca-vs-guayaquil-city/
URL;VALUE=URI:https://streamradar.soccer/es/match/5559167/deportivo-cuenca-
 vs-guayaquil-city/
STATUS:CONFIRMED
END:VEVENT
END:VCALENDAR
