BEGIN:VCALENDAR
VERSION:2.0
PRODID:-//StreamRadar//Match Calendar//EN
CALSCALE:GREGORIAN
METHOD:PUBLISH
X-WR-CALNAME:Independiente del Valle vs Técnico Universitario
X-WR-TIMEZONE:America/New_York
BEGIN:VEVENT
UID:match-5559110@streamradar.soccer
SUMMARY:Independiente del Valle vs Técnico Universitario
DTSTAMP:20260421T181230Z
DTSTART;TZID=America/New_York:20260719T160000
DTEND;TZID=America/New_York:20260719T180000
LOCATION:Estadio Banco Guayaquil
DESCRIPTION:Dónde ver Independiente del Valle vs Técnico Universitario en
  Ecuador - Serie A de Ecuador. Transmisión en vivo y programación de TV.\
 nhttps://streamradar.soccer/es/match/5559110/independiente-del-valle-vs-tec
 nico-universitario/
URL;VALUE=URI:https://streamradar.soccer/es/match/5559110/independiente-del
 -valle-vs-tecnico-universitario/
STATUS:CONFIRMED
END:VEVENT
END:VCALENDAR
