BEGIN:VCALENDAR
VERSION:2.0
PRODID:-//StreamRadar//Match Calendar//EN
CALSCALE:GREGORIAN
METHOD:PUBLISH
X-WR-CALNAME:Etoile du Sahel vs Slimane
X-WR-TIMEZONE:America/New_York
BEGIN:VEVENT
UID:match-5558117@streamradar.soccer
SUMMARY:Etoile du Sahel vs Slimane
DTSTAMP:20260423T094151Z
DTSTART;TZID=America/New_York:20260228T070000
DTEND;TZID=America/New_York:20260228T090000
LOCATION:Stade Olympique de Sousse
DESCRIPTION:Dónde ver Etoile Du Sahel vs Slimane en Túnez - Ligue Profess
 ionnelle 1. Transmisión en vivo y programación de TV.\nhttps://streamrada
 r.soccer/es/match/5558117/etoile-du-sahel-vs-slimane/
URL;VALUE=URI:https://streamradar.soccer/es/match/5558117/etoile-du-sahel-v
 s-slimane/
STATUS:CONFIRMED
END:VEVENT
END:VCALENDAR
