BEGIN:VCALENDAR
VERSION:2.0
PRODID:-//StreamRadar//Match Calendar//EN
CALSCALE:GREGORIAN
METHOD:PUBLISH
X-WR-CALNAME:Novorizontino vs Londrina
X-WR-TIMEZONE:America/New_York
BEGIN:VEVENT
UID:match-5557960@streamradar.soccer
SUMMARY:Novorizontino vs Londrina
DTSTAMP:20260422T125016Z
DTSTART;TZID=America/New_York:20260322T190000
DTEND;TZID=America/New_York:20260322T210000
LOCATION:Estadio Dr. Jorge Ismael de Biasi
DESCRIPTION:Dónde ver Novorizontino vs Londrina en Brasil - Serie B. Trans
 misión en vivo y programación de TV.\nhttps://streamradar.soccer/es/match
 /5557960/novorizontino-vs-londrina/
URL;VALUE=URI:https://streamradar.soccer/es/match/5557960/novorizontino-vs-
 londrina/
STATUS:CONFIRMED
END:VEVENT
END:VCALENDAR
