BEGIN:VCALENDAR
VERSION:2.0
PRODID:-//StreamRadar//Match Calendar//EN
CALSCALE:GREGORIAN
METHOD:PUBLISH
X-WR-CALNAME:Japan vs Vietnam
X-WR-TIMEZONE:America/New_York
BEGIN:VEVENT
UID:match-5557928@streamradar.soccer
SUMMARY:Japan vs Vietnam
DTSTAMP:20260423T012353Z
DTSTART;TZID=America/New_York:20260310T050000
DTEND;TZID=America/New_York:20260310T070000
LOCATION:HBF Park
DESCRIPTION:Dónde ver Japón vs Vietnam en Copa Asiática femenina de la A
 FC. Transmisión en vivo y programación de TV.\nhttps://streamradar.soccer
 /es/match/5557928/japan-vs-vietnam/
URL;VALUE=URI:https://streamradar.soccer/es/match/5557928/japan-vs-vietnam/
STATUS:CONFIRMED
END:VEVENT
END:VCALENDAR
