BEGIN:VCALENDAR
VERSION:2.0
PRODID:-//StreamRadar//Match Calendar//EN
CALSCALE:GREGORIAN
METHOD:PUBLISH
X-WR-CALNAME:Kukësi vs Luftëtari Gjirokastër
X-WR-TIMEZONE:America/New_York
BEGIN:VEVENT
UID:match-5556788@streamradar.soccer
SUMMARY:Kukësi vs Luftëtari Gjirokastër
DTSTAMP:20260423T045422Z
DTSTART;TZID=America/New_York:20260307T080000
DTEND;TZID=America/New_York:20260307T100000
LOCATION:Kukes Arena
DESCRIPTION:Dónde ver Kukësi vs Luftëtari Gjirokastër en Albania - Kate
 goria Superiore. Transmisión en vivo y programación de TV.\nhttps://strea
 mradar.soccer/es/match/5556788/kukesi-vs-luftetari-gjirokaster/
URL;VALUE=URI:https://streamradar.soccer/es/match/5556788/kukesi-vs-lufteta
 ri-gjirokaster/
STATUS:CONFIRMED
END:VEVENT
END:VCALENDAR
