BEGIN:VCALENDAR
VERSION:2.0
PRODID:-//StreamRadar//Match Calendar//EN
CALSCALE:GREGORIAN
METHOD:PUBLISH
X-WR-CALNAME:Pogradeci vs Lushnja
X-WR-TIMEZONE:America/New_York
BEGIN:VEVENT
UID:match-5556778@streamradar.soccer
SUMMARY:Pogradeci vs Lushnja
DTSTAMP:20260423T184959Z
DTSTART;TZID=America/New_York:20260221T073000
DTEND;TZID=America/New_York:20260221T093000
LOCATION:Stadiumi Gjorgji Kyçyku (Pogradec)
DESCRIPTION:Dónde ver Pogradeci vs Lushnja en Albania - Kategoria Superior
 e. Transmisión en vivo y programación de TV.\nhttps://streamradar.soccer/
 es/match/5556778/pogradeci-vs-lushnja/
URL;VALUE=URI:https://streamradar.soccer/es/match/5556778/pogradeci-vs-lush
 nja/
STATUS:CONFIRMED
END:VEVENT
END:VCALENDAR
