BEGIN:VCALENDAR
VERSION:2.0
PRODID:-//StreamRadar//Match Calendar//EN
CALSCALE:GREGORIAN
METHOD:PUBLISH
X-WR-CALNAME:Sogdiana vs Olimpiyets
X-WR-TIMEZONE:America/New_York
BEGIN:VEVENT
UID:match-5550873@streamradar.soccer
SUMMARY:Sogdiana vs Olimpiyets
DTSTAMP:20260424T040704Z
DTSTART;TZID=America/New_York:20260213T030000
DTEND;TZID=America/New_York:20260213T050000
LOCATION:So'g'diyona Sport Majmuasi (Jizzax)
DESCRIPTION:Dónde ver Sogdiana vs Olimpiyets en Partido Amistoso Internaci
 onal. Transmisión en vivo y programación de TV.\nhttps://streamradar.socc
 er/es/match/5550873/sogdiana-vs-olimpiyets/
URL;VALUE=URI:https://streamradar.soccer/es/match/5550873/sogdiana-vs-olimp
 iyets/
STATUS:CONFIRMED
END:VEVENT
END:VCALENDAR
