BEGIN:VCALENDAR
VERSION:2.0
PRODID:-//StreamRadar//Match Calendar//EN
CALSCALE:GREGORIAN
METHOD:PUBLISH
X-WR-CALNAME:MP vs SJK Akatemia
X-WR-TIMEZONE:America/New_York
BEGIN:VEVENT
UID:match-5535690@streamradar.soccer
SUMMARY:MP vs SJK Akatemia
DTSTAMP:20260425T150804Z
DTSTART;TZID=America/New_York:20260912T090000
DTEND;TZID=America/New_York:20260912T110000
LOCATION:Mikkelin Urheilupuisto
DESCRIPTION:Dónde ver MP vs SJK Akatemia en Finlandia - Ykkösliiga. Trans
 misión en vivo y programación de TV.\nhttps://streamradar.soccer/es/match
 /5535690/mp-vs-sjk-akatemia/
URL;VALUE=URI:https://streamradar.soccer/es/match/5535690/mp-vs-sjk-akatemi
 a/
STATUS:CONFIRMED
END:VEVENT
END:VCALENDAR
