BEGIN:VCALENDAR
VERSION:2.0
PRODID:-//StreamRadar//Match Calendar//EN
CALSCALE:GREGORIAN
METHOD:PUBLISH
X-WR-CALNAME:KäPa vs PK-35
X-WR-TIMEZONE:America/New_York
BEGIN:VEVENT
UID:match-5535687@streamradar.soccer
SUMMARY:KäPa vs PK-35
DTSTAMP:20260425T132742Z
DTSTART;TZID=America/New_York:20260911T120000
DTEND;TZID=America/New_York:20260911T140000
LOCATION:Brahenkentta
DESCRIPTION:Dónde ver KäPa vs PK-35 en Finlandia - Ykkösliiga. Transmisi
 ón en vivo y programación de TV.\nhttps://streamradar.soccer/es/match/553
 5687/kapa-vs-pk-35/
URL;VALUE=URI:https://streamradar.soccer/es/match/5535687/kapa-vs-pk-35/
STATUS:CONFIRMED
END:VEVENT
END:VCALENDAR
