BEGIN:VCALENDAR
VERSION:2.0
PRODID:-//StreamRadar//Match Calendar//EN
CALSCALE:GREGORIAN
METHOD:PUBLISH
X-WR-CALNAME:SJK Akatemia vs JäPS
X-WR-TIMEZONE:America/New_York
BEGIN:VEVENT
UID:match-5535684@streamradar.soccer
SUMMARY:SJK Akatemia vs JäPS
DTSTAMP:20260425T115850Z
DTSTART;TZID=America/New_York:20260906T113000
DTEND;TZID=America/New_York:20260906T133000
LOCATION:OmaSp Stadion
DESCRIPTION:Dónde ver SJK Akatemia vs JäPS en Finlandia - Ykkösliiga. Tr
 ansmisión en vivo y programación de TV.\nhttps://streamradar.soccer/es/ma
 tch/5535684/sjk-akatemia-vs-japs/
URL;VALUE=URI:https://streamradar.soccer/es/match/5535684/sjk-akatemia-vs-j
 aps/
STATUS:CONFIRMED
END:VEVENT
END:VCALENDAR
