BEGIN:VCALENDAR
VERSION:2.0
PRODID:-//StreamRadar//Match Calendar//EN
CALSCALE:GREGORIAN
METHOD:PUBLISH
X-WR-CALNAME:Eskilsminne vs Tvååker
X-WR-TIMEZONE:America/New_York
BEGIN:VEVENT
UID:match-5534749@streamradar.soccer
SUMMARY:Eskilsminne vs Tvååker
DTSTAMP:20260421T122529Z
DTSTART;TZID=America/New_York:20260917T130000
DTEND;TZID=America/New_York:20260917T150000
LOCATION:Harlyckan
DESCRIPTION:Dónde ver Eskilsminne vs Tvååker en Suecia - Ettan. Transmis
 ión en vivo y programación de TV.\nhttps://streamradar.soccer/es/match/55
 34749/eskilsminne-vs-tvaaker/
URL;VALUE=URI:https://streamradar.soccer/es/match/5534749/eskilsminne-vs-tv
 aaker/
STATUS:CONFIRMED
END:VEVENT
END:VCALENDAR
