BEGIN:VCALENDAR
VERSION:2.0
PRODID:-//StreamRadar//Match Calendar//EN
CALSCALE:GREGORIAN
METHOD:PUBLISH
X-WR-CALNAME:Ã…tvidaberg vs Olympic
X-WR-TIMEZONE:America/New_York
BEGIN:VEVENT
UID:match-5534742@streamradar.soccer
SUMMARY:Ã…tvidaberg vs Olympic
DTSTAMP:20260421T112239Z
DTSTART;TZID=America/New_York:20260912T100000
DTEND;TZID=America/New_York:20260912T120000
LOCATION:Kopparvallen
DESCRIPTION:DÃ³nde ver Ã…tvidaberg vs Olympic en Suecia - Ettan. TransmisiÃ
 ³n en vivo y programaciÃ³n de TV.\nhttps://streamradar.soccer/es/match/5534
 742/atvidaberg-vs-olympic/
URL;VALUE=URI:https://streamradar.soccer/es/match/5534742/atvidaberg-vs-oly
 mpic/
STATUS:CONFIRMED
END:VEVENT
END:VCALENDAR
