BEGIN:VCALENDAR
VERSION:2.0
PRODID:-//StreamRadar//Match Calendar//EN
CALSCALE:GREGORIAN
METHOD:PUBLISH
X-WR-CALNAME:Skövde AIK vs Trelleborg FF
X-WR-TIMEZONE:America/New_York
BEGIN:VEVENT
UID:match-5534738@streamradar.soccer
SUMMARY:Skövde AIK vs Trelleborg FF
DTSTAMP:20260421T112314Z
DTSTART;TZID=America/New_York:20260906T070000
DTEND;TZID=America/New_York:20260906T090000
DESCRIPTION:Dónde ver Skövde AIK vs Trelleborg FF en Suecia - Ettan. Tran
 smisión en vivo y programación de TV.\nhttps://streamradar.soccer/es/matc
 h/5534738/skovde-aik-vs-trelleborg-ff/
URL;VALUE=URI:https://streamradar.soccer/es/match/5534738/skovde-aik-vs-tre
 lleborg-ff/
STATUS:CONFIRMED
END:VEVENT
END:VCALENDAR
