BEGIN:VCALENDAR
VERSION:2.0
PRODID:-//StreamRadar//Match Calendar//EN
CALSCALE:GREGORIAN
METHOD:PUBLISH
X-WR-CALNAME:Piteå vs Umeå
X-WR-TIMEZONE:America/New_York
BEGIN:VEVENT
UID:match-5534513@streamradar.soccer
SUMMARY:Piteå vs Umeå
DTSTAMP:20260421T124138Z
DTSTART;TZID=America/New_York:20260916T130000
DTEND;TZID=America/New_York:20260916T150000
LOCATION:LF Arena
DESCRIPTION:Dónde ver Piteå vs Umeå en Suecia - Ettan. Transmisión en v
 ivo y programación de TV.\nhttps://streamradar.soccer/es/match/5534513/pit
 ea-vs-umea/
URL;VALUE=URI:https://streamradar.soccer/es/match/5534513/pitea-vs-umea/
STATUS:CONFIRMED
END:VEVENT
END:VCALENDAR
